BEGIN:VCALENDAR
VERSION:2.0
PRODID:-//Skate Ontario - ECPv5.6.0//NONSGML v1.0//EN
CALSCALE:GREGORIAN
METHOD:PUBLISH
X-WR-CALNAME:Skate Ontario
X-ORIGINAL-URL:https://skateontario.org
X-WR-CALDESC:Events for Skate Ontario
BEGIN:VTIMEZONE
TZID:America/Toronto
BEGIN:DAYLIGHT
TZOFFSETFROM:-0500
TZOFFSETTO:-0400
TZNAME:EDT
DTSTART:20240310T070000
END:DAYLIGHT
BEGIN:STANDARD
TZOFFSETFROM:-0400
TZOFFSETTO:-0500
TZNAME:EST
DTSTART:20241103T060000
END:STANDARD
END:VTIMEZONE
BEGIN:VEVENT
DTSTART;VALUE=DATE:20241212
DTEND;VALUE=DATE:20241216
DTSTAMP:20260424T071057
CREATED:20240702T145030Z
LAST-MODIFIED:20241212T171947Z
UID:106750-1733961600-1734307199@skateontario.org
SUMMARY:Provincial Series #6 - Stratford December Classic presented by Elite Jump Performance
DESCRIPTION:Starting Orders have now been posted! \nQuestions about this event should be directed to Tristan Forgie at tforgie@skateontario.org \nVideos – Videos from the event can be purchased using the following link: skate.ih.digital/stratford \nPlanned Program Content (PPC) \nPlanned Program sheets will be collected onsite at Skater Registration for all STAR 5 – Gold Freeskate\, Artistic\, Pre-Juvenile & Juvenile categories. Skaters are encouraged to bring a pre-filled copy of their planned program sheet to the event. A blank copy can be found here.
URL:https://skateontario.org/event/provincial-series-6-stratford-december-classic/
LOCATION:Stratford Rotary Complex\, 353 McCarthy Rd.\, Stratford\, ON\, N5A 7S7\, Canada
CATEGORIES:Competitions
END:VEVENT
END:VCALENDAR