BEGIN:VCALENDAR
VERSION:2.0
PRODID:-//Skate Ontario - ECPv5.6.0//NONSGML v1.0//EN
CALSCALE:GREGORIAN
METHOD:PUBLISH
X-WR-CALNAME:Skate Ontario
X-ORIGINAL-URL:https://skateontario.org
X-WR-CALDESC:Events for Skate Ontario
BEGIN:VTIMEZONE
TZID:America/Toronto
BEGIN:DAYLIGHT
TZOFFSETFROM:-0500
TZOFFSETTO:-0400
TZNAME:EDT
DTSTART:20240310T070000
END:DAYLIGHT
BEGIN:STANDARD
TZOFFSETFROM:-0400
TZOFFSETTO:-0500
TZNAME:EST
DTSTART:20241103T060000
END:STANDARD
END:VTIMEZONE
BEGIN:VEVENT
DTSTART;VALUE=DATE:20241129
DTEND;VALUE=DATE:20241202
DTSTAMP:20260423T064048
CREATED:20240702T144810Z
LAST-MODIFIED:20241125T193004Z
UID:106746-1732838400-1733097599@skateontario.org
SUMMARY:Provincial Series #4 - Nickel Blades presented by Elite Jump Performance
DESCRIPTION:Athlete Information Email \nStart Orders have now been posted.  \nAn updated schedule has been posted (Nov 14).  Saturday STAR 6 Women Groups 1 & 2 are affected. \nPlease note: Garson Community Centre & Arena has been renamed to George Armstrong Community Centre & Arena.  The address/location of the facility is the same. \nMUSIC UPLOAD \nMusic upload will be through SkateReg\, Skate Ontario’s Event Registration system. The deadline to upload your music is Wednesday\, November 6\, 2024 at 11:59pm. All late submissions will be subject to a late fee. \nSkaters should bring a USB back-up of their music. This should be kept rink-side with their coach for quick access if needed. \nClick here for instructions on how to submit music \nPLANNED PROGRAM CONTENT (PPC) \nPlanned program sheets will be collected onsite at skater registration.  A blank copy can be found here. Please note\, planned program sheets are only collected for STAR 5+. \n  \nQuestions about this event should be directed to Stephanie Lafleur at slafleur@skateontario.org
URL:https://skateontario.org/event/provincial-series-4-nickel-blades/
LOCATION:George Armstrong Community Centre and Arena\, 100 Church St.\, Sudbury\, Ontario\, P3L 1T7\, Canada
CATEGORIES:Competitions
END:VEVENT
BEGIN:VEVENT
DTSTART;VALUE=DATE:20241129
DTEND;VALUE=DATE:20241202
DTSTAMP:20260423T064048
CREATED:20240702T144917Z
LAST-MODIFIED:20241127T145022Z
UID:106748-1732838400-1733097599@skateontario.org
SUMMARY:Provincial Series #5 - Nepean presented by Elite Jump Performance
DESCRIPTION:Start Orders are now posted as of November 18. \nSchedule has been posted as of November 9. Schedule is subject to change. \nQuestions about this event should be directed to Brittany Bilsborough at bbilsborough@skateontario.org \nVIDEO ORDERS \nVideos are available for order from Tony Hicks\, The Camera Guy.  Videos may be ordered in advance use this link\, or by scanning the QR code onsite. Questions about video orders should be directed to thecameraguy@cogeco.ca \nPHOTOGRAPHY \n \nShane Croskery Photography will be at Nepean Sportsplex\, November 29th –  December 1st 2024 to capture all skaters participating in the Nepean Skate Provincial Series #5. After the event\, images will be uploaded to a password-protected online viewing gallery. You will have the opportunity to buy prints\, digital images\, and a variety of keepsakes from the online store that will be activated after the competition. Prints will be shipped to the customer directly and digital orders will be sent by email and download link. \nPre-register: https://shanecroskeryphotography.com/competitiongalleries/nepean-skate-provincial-series-5–november29th-december-1st-2024/ \nPre-register for the gallery to receive a notification when the photos are available for viewing and purchase online. \nSPECIAL OFFER: \nPurchase before the competition (Thursday\, Nov. 28th) and receive $20 OFF your Full Program Download. Regularly $60.00 NOW ONLY $40.00. \nAdd-Ons: Each additional program is only $10.00  \nHave any questions? Email us at info@shanecroskeryphotography.com \n  \nPRACTICE ICE \nThe Nepean Skating Club is happy to offer practice ice on Friday\, Saturday and Sunday for all levels of skaters. \nPractice Ice is available in 25 minute blocks at $25. Each session is clearly labelled with the levels that can sign-up for that session\, please ensure that you are registering in the appropriate session. \nTo register for practice ice\, you will have to create an account. \nCLICK HERE TO REGISTER FOR PRACTICE ICE \nPlease Note: A coach must be present with a skater for Practice Ice.  \nQuestions about Practice Ice should be directed to the Nepean SC at: office@nepeanskatingclub.com \nPRACTICE ICE SESSIONS \nNovember 29th – Rink 1 (Yzerman) \n6am to 7:50am – Star 5+ \n8am to 9:50 – OPEN \n10am to 12:50pm – Star 4+ \nNovember 30th – Rink 1 (Yzerman) \n6am to 6:25am – OPEN \n6:25am to 7:25am – Star 5+ \nDecember 1st – Rink 3 \n6am to 6:25am – OPEN \n6:25am to 7:25am – Star 1-3 & Special Olympics \nMUSIC UPLOAD \nMusic Registration is now closed. All music related questions should be directed to Brittany Bilsborough at bbilsborough@skateontario.org \nPlanned Program Content (PPC) \nPlanned Program sheets will be collected onsite at Skater Registration for all STAR 5 – Gold Freeskate\, Artistic\, Pre-Juvenile & Juvenile categories. Skaters are encouraged to bring a pre-filled copy of their planned program sheet to the event. A blank copy can be found here.
URL:https://skateontario.org/event/provincial-series-5-nepean/
LOCATION:Nepean Sportsplex\, 1701 Woodroffe Ave.\, Nepean\, ON\, K2G 1W2\, Canada
CATEGORIES:Competitions
END:VEVENT
BEGIN:VEVENT
DTSTART;VALUE=DATE:20241129
DTEND;VALUE=DATE:20241202
DTSTAMP:20260423T064048
CREATED:20240702T151843Z
LAST-MODIFIED:20241125T210319Z
UID:106775-1732838400-1733097599@skateontario.org
SUMMARY:STAR 1-4 Brampton
DESCRIPTION:Athlete Information Email \nStart orders have now been posted. \nMUSIC UPLOAD \nMusic upload will be through SkateReg\, Skate Ontario’s Event Registration system. The deadline to upload your music is Tuesday\, November 5\, 2024 at 11:59pm. All late submissions will be subject to a late fee. \nSkaters should bring a USB back-up of their music. This should be kept rink-side with their coach for quick access if needed. \nClick here for instructions on how to submit music \nNote: Planned Program Content (PPC) is not collected at the STAR 1-4 level.  \n  \nQuestions about this event should be directed to Stephanie Lafleur at slafleur@skateontario.org \n 
URL:https://skateontario.org/event/star-1-4-brampton/
LOCATION:Cassie Campbell Community Centre\, 1050 Sandalwood Pkwy. W.\, Brampton\, ON\, L7A 0K9\, Canada
CATEGORIES:Competitions
END:VEVENT
END:VCALENDAR