BEGIN:VCALENDAR
VERSION:2.0
PRODID:-//Skate Ontario - ECPv5.6.0//NONSGML v1.0//EN
CALSCALE:GREGORIAN
METHOD:PUBLISH
X-WR-CALNAME:Skate Ontario
X-ORIGINAL-URL:https://skateontario.org
X-WR-CALDESC:Events for Skate Ontario
BEGIN:VTIMEZONE
TZID:America/Toronto
BEGIN:DAYLIGHT
TZOFFSETFROM:-0500
TZOFFSETTO:-0400
TZNAME:EDT
DTSTART:20230312T070000
END:DAYLIGHT
BEGIN:STANDARD
TZOFFSETFROM:-0400
TZOFFSETTO:-0500
TZNAME:EST
DTSTART:20231105T060000
END:STANDARD
END:VTIMEZONE
BEGIN:VEVENT
DTSTART;VALUE=DATE:20231215
DTEND;VALUE=DATE:20231218
DTSTAMP:20260424T090213
CREATED:20230823T175511Z
LAST-MODIFIED:20231217T042934Z
UID:38063-1702598400-1702857599@skateontario.org
SUMMARY:Provincial Series #4 - Stratford presented by Elite Jump Performance
DESCRIPTION:STAR 7 Artistic grp 2 Category Results & Skater Details are below \nDue to technical difficulties beyond our control\, Skate Ontario Provincial Series #4 – Stratford will unfortunately not be able to be live streamed. \n\nWe will be working on refunds on the Live Stream development fee to all participants which will be issued by Sunday\, Dec. 17 at 6:00pm.\n\n\n\n  \nREGISTRATION INFORMATION \nRegistration is now closed. Parents/Guardians and skaters are no longer able to see wait lists but they are being maintained by Skate Ontario Events staff. If a spot becomes available\, skaters will be notified with instructions to complete registration within 24 hours. \nHOW TO ORDER VIDEOS \nVideography will be provided by Tony Hicks\, The Camera Guy.  Videos may be ordered using the following link\, or by scanning the QR code posted onsite at the event. \nfee. \nPLANNED PROGRAM CONTENT (PPC) \nPPC sheets will be collected onsite for all STAR 5 – Gold Freeskate\, Artistic & Adult categories. A blank copy can be found here. \n  \nQuestions should be directed to Michelle Hunsley at mhunsley@skateontario.org 
URL:https://skateontario.org/event/provincial-series-4-stratford-2/
LOCATION:Stratford Rotary Complex\, 353 McCarthy Rd.\, Stratford\, ON\, N5A 7S7\, Canada
CATEGORIES:Competitions
END:VEVENT
BEGIN:VEVENT
DTSTART;VALUE=DATE:20231215
DTEND;VALUE=DATE:20231218
DTSTAMP:20260424T090213
CREATED:20230823T175650Z
LAST-MODIFIED:20231211T222117Z
UID:38065-1702598400-1702857599@skateontario.org
SUMMARY:Provincial Series #5 - Skate Thunder Bay presented by Elite Jump Performance
DESCRIPTION:Start Orders have now been posted. \nPRACTICE ICE \nPractice ice is available for purchase between 11am – 3pm Friday\, December 15th. Practice ice can be purchased in 30 minute time slots for $25 each.  Payment can be made at the rink by cash or card.  To purchase practice ice\, please contact Rebecca Bourgeois at tbfsc.president@gmail.com. \nREGISTRATION INFORMATION \nRegistration has now closed. \nMUSIC \nProgram music must be submitted through Uplifter as an MP3 file.  This includes all Series 8 pattern dance music.  You may upload your music file at the time of registration\, OR you may leave the music field blank\, complete your registration\, then log back into your account at a later date to upload your music file.  If you checkout without uploading your music file\, you must log into your account and upload your music file by Sunday\, November 19\, 2023 at 11:59 PM.  You may also edit any uploaded music file up until this date. Any late submissions will be subject to a $50 late fee. \nMusic Upload Instructions \nPLANNED PROGRAM CONTENT (PPC) \nPPC sheets will be collected onsite for all STAR 5 – Gold Freeskate\, Artistic & Adult categories. A blank copy can be found here. \nPHOTOGRAPHY \nPhotography will be provided by Ryan Hill of PICme Photography.  A table will be set up in the lobby for photo orders.  More information can be found here. \n  \nQuestions should be directed to Stephanie Lafleur at slafleur@skateontario.org
URL:https://skateontario.org/event/provincial-series-5-thunder-bay/
LOCATION:Thunder Bay Tournament Centre\, 2050 Mountain Rd.\, Thunder Bay\, ON\, P7J 1C8\, Canada
CATEGORIES:Competitions
END:VEVENT
END:VCALENDAR