BEGIN:VCALENDAR
VERSION:2.0
PRODID:-//Skate Ontario - ECPv5.6.0//NONSGML v1.0//EN
CALSCALE:GREGORIAN
METHOD:PUBLISH
X-WR-CALNAME:Skate Ontario
X-ORIGINAL-URL:https://skateontario.org
X-WR-CALDESC:Events for Skate Ontario
BEGIN:VTIMEZONE
TZID:America/Toronto
BEGIN:DAYLIGHT
TZOFFSETFROM:-0500
TZOFFSETTO:-0400
TZNAME:EDT
DTSTART:20230312T070000
END:DAYLIGHT
BEGIN:STANDARD
TZOFFSETFROM:-0400
TZOFFSETTO:-0500
TZNAME:EST
DTSTART:20231105T060000
END:STANDARD
END:VTIMEZONE
BEGIN:VEVENT
DTSTART;VALUE=DATE:20231201
DTEND;VALUE=DATE:20231204
DTSTAMP:20260425T102648
CREATED:20230816T181933Z
LAST-MODIFIED:20231130T130554Z
UID:37985-1701388800-1701647999@skateontario.org
SUMMARY:Provincial Series #2 - Nickel Blades presented by Elite Jump Performance
DESCRIPTION:Start orders are now posted. \nVIDEOS \nVideo replay for the event will be provided by Bertrand Productions.  Videos will be available for purchase for categories that require video replay (STAR 5+ freeskate & artistic).  Please see the attached flyer for details on how to purchase a video.  Videos are not available for purchase for STAR 1-4 or Supplementary categories. \nMUSIC \nThe music submission deadline has now passed.  If you need to make a change to your program music\, please email slafleur@skateontario.org. \nPLANNED PROGRAM CONTENT (PPC) \nPlanned Program sheets will be collected onsite for all STAR 5 – Gold Freeskate & Artistic categories.  A blank copy can be found here. \n  \nQuestions about the event should be directed to Stephanie Lafleur at slafleur@skateontario.org
URL:https://skateontario.org/event/provincial-series-2-nickel-blades/
LOCATION:George Armstrong Community Centre and Arena\, 100 Church St.\, Sudbury\, Ontario\, P3L 1T7\, Canada
CATEGORIES:Competitions
END:VEVENT
BEGIN:VEVENT
DTSTART;VALUE=DATE:20231201
DTEND;VALUE=DATE:20231204
DTSTAMP:20260425T102648
CREATED:20230816T184955Z
LAST-MODIFIED:20231129T163809Z
UID:37995-1701388800-1701647999@skateontario.org
SUMMARY:Provincial Series #3 - Nepean presented by Elite Jump Performance
DESCRIPTION:SCHEDULE & START ORDERS \nThe start orders have now been posted. \nPRACTICE ICE \nPractice Ice is available for purchase from the Nepean Skating Club on Friday\, December 1\, and Saturday\, December 2\, in the morning prior to competition. Skaters must ensure to be accompanied by their coach. \nHow to book practice ice:  \nIf you have never registered for a program through the Nepean Skating Club registration site\, you will need to set up an account to get started. \nIf you have registered with NSC previously\, please log in to your account to proceed. You must pay by credit card at the time of registration \nCLICK HERE TO PURCHASE PRACTICE ICE \nQuestions about Practice Ice? Please contact us at office@nepeanskatingclub.com \nHOW TO ORDER VIDEOS \nVideography will be provided by Tony Hicks\, The Camera Guy.  Videos may be ordered using the following link\, or by scanning the QR code posted onsite at the event. \nPHOTOGRAPHY \nShane Croskery Photography will be at Nepean Sportsplex\, December 1st -3rd\, 2023 to capture all skaters participating in the Provincial Series #3 – Nepean presented by Elite Jump Performance. After the event\, images will be uploaded to a password-protected online viewing gallery. \nYou will have the opportunity to buy prints\, digital images\, and a variety of keepsakes from the online store that will be activated after the competition. Prints will be shipped to the customer directly and digital orders will be sent by email and download link. \nPre-register: bit.ly/nsps3 \nPre-register for the gallery to receive a notification when the photos are available for viewing and purchase online. \nSPECIAL OFFER: Purchase before the competition (Thursday\, Nov. 30th) and receive $20 OFF your Full Program Download. Regularly $60.00 NOW ONLY $40.00. Add-Ons: Each additional program is only $10.00  \nhttps://shanecroskeryphotography.com/competitiongalleries/nepean-skate-provincial-series-3-december-1st-3rd-2023/ \nHave any questions? Email us at info@shanecroskeryphotography.com\n \nMUSIC \nMusic registration is closed. All changes should be sent to bbilsborough@skateontario.org \nMusic Back-Up: USB \nPLANNED PROGRAM CONTENT (PPC) \nPPC sheets will be collected onsite at Skater Registration for all STAR 5 – Gold Freeskate\, Artistic\, Pre-Juvenile & Juvenile categories. A blank copy can be found here. \n  \nQuestions should be directed to Brittany Bilsborough at bbilsborough@skateontario.org \n 
URL:https://skateontario.org/event/provincial-series-3-nepean-2/
LOCATION:Nepean Sportsplex\, 1701 Woodroffe Ave.\, Nepean\, ON\, K2G 1W2\, Canada
CATEGORIES:Competitions
END:VEVENT
END:VCALENDAR