BEGIN:VCALENDAR
VERSION:2.0
PRODID:-//Skate Ontario - ECPv5.6.0//NONSGML v1.0//EN
CALSCALE:GREGORIAN
METHOD:PUBLISH
X-WR-CALNAME:Skate Ontario
X-ORIGINAL-URL:https://skateontario.org
X-WR-CALDESC:Events for Skate Ontario
BEGIN:VTIMEZONE
TZID:America/Toronto
BEGIN:DAYLIGHT
TZOFFSETFROM:-0500
TZOFFSETTO:-0400
TZNAME:EDT
DTSTART:20190310T070000
END:DAYLIGHT
BEGIN:STANDARD
TZOFFSETFROM:-0400
TZOFFSETTO:-0500
TZNAME:EST
DTSTART:20191103T060000
END:STANDARD
END:VTIMEZONE
BEGIN:VEVENT
DTSTART;TZID=America/Toronto:20190725T080000
DTEND;TZID=America/Toronto:20190728T170000
DTSTAMP:20260423T070853
CREATED:20230528T044219Z
LAST-MODIFIED:20230528T044219Z
UID:22449-1564041600-1564333200@skateontario.org
SUMMARY:Sectionals Series #1 - Minto Summer Skate
DESCRIPTION:Live Streaming Links \nCanadian Tire Rink: \nhttps://dai.ly/x7dxztd \nHEO Rink: \nhttps://dai.ly/x7dy05o \n  \nThe schedule has been updated as of July 24\, 2019. Please check your schedule!
URL:https://skateontario.org/event/sectionals-series-ottawa-2/
CATEGORIES:Competitions
ATTACH;FMTTYPE=image/jpeg:https://skateontario.org/wp-content/uploads/2018/05/short_dance-1a_preview.jpeg
END:VEVENT
END:VCALENDAR