BEGIN:VCALENDAR
VERSION:2.0
PRODID:-//Skate Ontario - ECPv5.6.0//NONSGML v1.0//EN
CALSCALE:GREGORIAN
METHOD:PUBLISH
X-WR-CALNAME:Skate Ontario
X-ORIGINAL-URL:https://skateontario.org
X-WR-CALDESC:Events for Skate Ontario
BEGIN:VTIMEZONE
TZID:America/Toronto
BEGIN:DAYLIGHT
TZOFFSETFROM:-0500
TZOFFSETTO:-0400
TZNAME:EDT
DTSTART:20180311T070000
END:DAYLIGHT
BEGIN:STANDARD
TZOFFSETFROM:-0400
TZOFFSETTO:-0500
TZNAME:EST
DTSTART:20181104T060000
END:STANDARD
END:VTIMEZONE
BEGIN:VEVENT
DTSTART;TZID=America/Toronto:20180726T080000
DTEND;TZID=America/Toronto:20180729T170000
DTSTAMP:20260425T210012
CREATED:20180419T184457Z
LAST-MODIFIED:20230528T044138Z
UID:2337-1532592000-1532883600@skateontario.org
SUMMARY:Sectionals Series - Minto Summer Skate
DESCRIPTION:Live Stream – Canadian Tire Rink \nLive Stream – HEO Rink \nPractice Ice Information
URL:https://skateontario.org/event/sectionals-series-minto/
LOCATION:Richcraft Sensplex East\, 813 Shefford Rd.\, Ottawa\, ON\, K1J 8H9\, Canada
CATEGORIES:Competitions
ATTACH;FMTTYPE=image/jpeg:https://skateontario.org/wp-content/uploads/2018/05/lrg_aurora-header-1a@2x.jpg
END:VEVENT
END:VCALENDAR