BEGIN:VCALENDAR
VERSION:2.0
PRODID:-//Skate Ontario - ECPv5.6.0//NONSGML v1.0//EN
CALSCALE:GREGORIAN
METHOD:PUBLISH
X-WR-CALNAME:Skate Ontario
X-ORIGINAL-URL:https://skateontario.org
X-WR-CALDESC:Events for Skate Ontario
BEGIN:VTIMEZONE
TZID:America/Toronto
BEGIN:DAYLIGHT
TZOFFSETFROM:-0500
TZOFFSETTO:-0400
TZNAME:EDT
DTSTART:20240310T070000
END:DAYLIGHT
BEGIN:STANDARD
TZOFFSETFROM:-0400
TZOFFSETTO:-0500
TZNAME:EST
DTSTART:20241103T060000
END:STANDARD
END:VTIMEZONE
BEGIN:VEVENT
DTSTART;VALUE=DATE:20240406
DTEND;VALUE=DATE:20240506
DTSTAMP:20260423T044954
CREATED:20231114T185930Z
LAST-MODIFIED:20240322T160625Z
UID:52039-1712361600-1714953599@skateontario.org
SUMMARY:Bring on the Fun 2024
DESCRIPTION:Event Announcement\nThe event announcement for Bring on the Fun is now posted. Refer to the location specific detailed event pages for more information. \nRegistration Dates\nFor Bring on the Fun registration dates: CLICK HERE \nPlease note: Registration dates and times are subject to change. \nMarking Sheets and Standards\nThe marking sheets and standards for Bring on the Fun are now posted. Refer to the download section below. \nLocations\nSkate Ontario is pleased to announce the return of Bring on the Fun in April and May 2024 with partner host clubs and schools. \nHere are the dates and locations: \n\n\n\nDATE\nLOCATION\nHOST CLUB/SCHOOL\n\n\nApril 6\, 2024\nSault Ste Marie\nLake Superior Figure Skating Club\n\n\nApril 6-7\, 2024\nMinden\nMinden Skating Club\n\n\nApril 12-14\, 2024\nOshawa\nOshawa Skating Club\n\n\nApril 13\, 2024\nPrescott\nPrescott Figure Skating Club\n\n\nApril 20-21\, 2024\nPort Elgin\nSaugeen Shores Skating Club\n\n\nApril 27-28\, 2024\nSt Marys\nNorthern Star Skating Academy\n\n\nApril 27-28\, 2024\nAmherstburg\nSkate Amherstburg\n\n\nApril 27-28\, 2024\nLindsay\nWoodville Skating Club\n\n\nMay 3-5\, 2024\nMilton\nMilton Skating Club\n\n\n\n 
URL:https://skateontario.org/event/bring-on-the-fun-2024/
CATEGORIES:Competitions
END:VEVENT
BEGIN:VEVENT
DTSTART;VALUE=DATE:20240406
DTEND;VALUE=DATE:20240407
DTSTAMP:20260423T044954
CREATED:20240212T154116Z
LAST-MODIFIED:20240405T131443Z
UID:79748-1712361600-1712447999@skateontario.org
SUMMARY:Bring on the Fun - Lake Superior
DESCRIPTION:Registration for BOTF Lake Superior is now closed. If you are looking to register\, please email bbilsborough@skateontario.org . \nSCHEDULE / ENTRY LISTS / START ORDERS \nUpdated Schedule and Start Orders are posted as of March 21. \nPHOTOS \nWe want to hear from you! Please send in your photos from the event to skateontariophotos@gmail.com for your chance to be featured on Skate Ontario social media channels and/or website. Please indicate the Bring on the Fun location in the subject line (Lake Superior). \n“BEST OF” AWARDS \nAwards for the “Best Of” contests will be presented in the arena at the end of the day (1:15pm). \nAwards include Best Banner/Poster\, Best team Spirit\, Best Dressed\, and Best Decorated Door! For Best Decorated Door and Best Team Banner/Poster\, please ensure your decorations are up by 12pm. \nParents and Coaches are highly encouraged to dress up and join in on all the fun! \n \nANNOUNCEMENT \nThe announcement is now available for BOTF Lake Superior. \nRefer to the Information Sheet in the Downloads section for event specific information; including arena information\, registration dates\, music requirements\, and admissions. \nMUSIC \nMusic should be emailed lsfscmusic@gmail.com by Friday\, March 15. Skaters are recommended to bring a MP3 backup of their music on a USB stick. \nAll music related questions should be directed to lsfscmusic@gmail.com. \nFor more BOTF Information: Click Here.  \nQuestions should be directed to bbilsborough@skateontario.org
URL:https://skateontario.org/event/bring-on-the-fun-lake-superior/
LOCATION:John Rhodes Community Centre\, 260 Elizabeth St\, Sault Ste. Marie\, ON\, P6B 3H3\, Canada
CATEGORIES:Competitions
END:VEVENT
BEGIN:VEVENT
DTSTART;VALUE=DATE:20240406
DTEND;VALUE=DATE:20240408
DTSTAMP:20260423T044954
CREATED:20240212T155958Z
LAST-MODIFIED:20240405T131524Z
UID:79757-1712361600-1712534399@skateontario.org
SUMMARY:Bring on the Fun - Minden
DESCRIPTION:START ORDERS HAVE BEEN POSTED! \nPHOTOS \nWe want to hear from you! Please send in your photos from the event to skateontariophotos@gmail.com for your chance to be featured on Skate Ontario social media channels and/or website. Please indicate the Bring on the Fun location in the subject line (Minden). \nMUSIC \nAll programs will be played from CDs. Skaters are required to submit 2 copies of their music on CDs on site when registering upon arrival. CDs should be labelled with Skater’s name\, home club\, and category. \nANNOUNCEMENT \nThe announcement is now available for BOTF Minden. \nRefer to the Information Sheet in the Downloads section for event specific information; including arena information\, registration dates\, music requirements\, and admissions. \nREGISTRATION INFORMATION \nRegistration is now closed. \nFor more BOTF Information: Click Here.  \nQuestions should be directed to tforgie@skateontario.org
URL:https://skateontario.org/event/bring-on-the-fun-minden/
CATEGORIES:Competitions
END:VEVENT
END:VCALENDAR