BEGIN:VCALENDAR
VERSION:2.0
PRODID:-//Skate Ontario - ECPv5.6.0//NONSGML v1.0//EN
CALSCALE:GREGORIAN
METHOD:PUBLISH
X-WR-CALNAME:Skate Ontario
X-ORIGINAL-URL:https://skateontario.org
X-WR-CALDESC:Events for Skate Ontario
BEGIN:VTIMEZONE
TZID:America/Toronto
BEGIN:DAYLIGHT
TZOFFSETFROM:-0500
TZOFFSETTO:-0400
TZNAME:EDT
DTSTART:20240310T070000
END:DAYLIGHT
BEGIN:STANDARD
TZOFFSETFROM:-0400
TZOFFSETTO:-0500
TZNAME:EST
DTSTART:20241103T060000
END:STANDARD
END:VTIMEZONE
BEGIN:VEVENT
DTSTART;VALUE=DATE:20240126
DTEND;VALUE=DATE:20240129
DTSTAMP:20260423T045802
CREATED:20230823T180127Z
LAST-MODIFIED:20240126T134830Z
UID:38073-1706227200-1706486399@skateontario.org
SUMMARY:Provincial Series #9 - LaSalle presented by Elite Jump Performance
DESCRIPTION:RESULTS (STAR 5+ and Adult) \nDue to a posting delay\, results can be found here shortly after each category is completed.  Results can also be found on the LaSalle results page\, however may be available 2+ hours after the category is completed. \n  \nJan 15 – An updated schedule has been posted.  Only STAR 6 Women Group 1 and STAR 6 Women NQ are affected (Sunday). \nStart orders are now posted.  Please check carefully for group changes since entry lists were posted. \nVIDEOGRAPHY \nVideos are available for purchase from The Camera Guy.  Videos can be ordered ahead\, or by scanning the QR code posted onsite.  To view the video order form\, please click here. \nVENDORS \nDanielle Early Photography\, Muvwear\, and Podium Sports will be onsite. \nPLANNED PROGRAM CONTENT (PPC) \nPPC sheets will be collected onsite for all STAR 5+ categories (including artistic) & Adult categories. A blank copy can be found here. \n  \nQuestions should be directed to Stephanie Lafleur slafleur@skateontario.org
URL:https://skateontario.org/event/provincial-series-9-lasalle-2/
LOCATION:Vollmer Complex\, 2121 Laurier Pkwy\, Windsor\, Ontario\, N9J 0B4\, Canada
CATEGORIES:Competitions
END:VEVENT
END:VCALENDAR