BEGIN:VCALENDAR
VERSION:2.0
PRODID:-//Skate Ontario - ECPv5.6.0//NONSGML v1.0//EN
CALSCALE:GREGORIAN
METHOD:PUBLISH
X-WR-CALNAME:Skate Ontario
X-ORIGINAL-URL:https://skateontario.org
X-WR-CALDESC:Events for Skate Ontario
BEGIN:VTIMEZONE
TZID:America/Toronto
BEGIN:DAYLIGHT
TZOFFSETFROM:-0500
TZOFFSETTO:-0400
TZNAME:EDT
DTSTART:20230312T070000
END:DAYLIGHT
BEGIN:STANDARD
TZOFFSETFROM:-0400
TZOFFSETTO:-0500
TZNAME:EST
DTSTART:20231105T060000
END:STANDARD
END:VTIMEZONE
BEGIN:VEVENT
DTSTART;VALUE=DATE:20230818
DTEND;VALUE=DATE:20230821
DTSTAMP:20260420T092600
CREATED:20230525T155212Z
LAST-MODIFIED:20230819T124334Z
UID:36374-1692316800-1692575999@skateontario.org
SUMMARY:Sectional Series August
DESCRIPTION:The start order for Novice Women Free Program Group 2 has been updated.  Click here to view. \nLIVE STREAM LINKS \nPiller’s Rink \nOptimist’s Rink \nStart Orders have now been posted here.  Click “Segments” then “Entries” to view. \nThe 2023 Skate Ontario Sectional Series – August event is a qualifying event for the 2024 Skate Ontario Junior and Senior Sectional Championships for Junior & Senior only.  All other categories offered at the August event are considered non-qualifying. \nPRACTICE ICE \nPractice ice is being offered by the Kitchener-Waterloo Skating Club.  To view and book available practice ice\, please click here. \nHow to book practice ice: \n\nIf you have never registered for a program through the KWSC Membership site\, you will need to set up an account to get started. Required fields are marked with an asterisk*\nIf you have registered with the KWSC previously\, please log in to your account to proceed.\nYou must pay by credit card at the time of registration\nQuestions should be directed to the KWSC.  Please contact kwsc@kwsc.org\n\nREGISTRATION DATES \nThe registration period for this event has ended. \nPLANNED PROGRAM CONTENT (PPC) \nRegistrants will be asked to submit their Planned Program Content at the time of registration.  You will have the option to complete the PPC fields at the time of registration\, OR you may leave the fields blank\, complete your registration\, then log back into your account at a later date to complete your PPC information.  All required PPC information must be submitted by Sunday\, July 30\, 2023 at 11:59 PM.   You may also edit any submitted PPC information up until this date. \nMusic and PPC Music Upload Instructions \nMUSIC \nProgram music must be submitted through Uplifter as an MP3 file.  This includes all Series 8 pattern dance music.  You may upload your music file at the time of registration\, OR you may leave the music field blank\, complete your registration\, then log back into your account at a later date to upload your music file.  If you checkout without uploading your music file\, you must log into your account and upload your music file by Sunday\, July 30\, 2023 at 11:59 PM.  You may also edit any uploaded music file up until this date. \nMusic and PPC Music Upload Instructions \nQuestions about this event should be directed to Stephanie Lafleur at slafleur@skateontario.org \nHOW TO ORDER VIDEOS \nVideography will be provided by Tony Hicks\, The Camera Guy.  Videos may be ordered using the following link\, or by scanning the QR code posted onsite at the event.
URL:https://skateontario.org/event/sectional-series-august/
LOCATION:RIM Park\, 2001 University Avenue East\, Waterloo\, Ontario\, N2K 4K4\, Canada
CATEGORIES:Competitions
END:VEVENT
END:VCALENDAR