BEGIN:VCALENDAR
VERSION:2.0
PRODID:-//Skate Ontario - ECPv5.6.0//NONSGML v1.0//EN
CALSCALE:GREGORIAN
METHOD:PUBLISH
X-WR-CALNAME:Skate Ontario
X-ORIGINAL-URL:https://skateontario.org
X-WR-CALDESC:Events for Skate Ontario
BEGIN:VTIMEZONE
TZID:America/Toronto
BEGIN:DAYLIGHT
TZOFFSETFROM:-0500
TZOFFSETTO:-0400
TZNAME:EDT
DTSTART:20230312T070000
END:DAYLIGHT
BEGIN:STANDARD
TZOFFSETFROM:-0400
TZOFFSETTO:-0500
TZNAME:EST
DTSTART:20231105T060000
END:STANDARD
END:VTIMEZONE
BEGIN:VEVENT
DTSTART;TZID=America/Toronto:20230720T080000
DTEND;TZID=America/Toronto:20230723T235900
DTSTAMP:20260424T120256
CREATED:20230503T164524Z
LAST-MODIFIED:20230722T183039Z
UID:36323-1689840000-1690156740@skateontario.org
SUMMARY:Sectional Series July
DESCRIPTION:Live Streaming Link: \nManley Rink: https://dai.ly/x8mirfi \nSenecal Rink: https://dai.ly/x8mirhx \nFor the Skate Canada NextGen Event Live Stream in Manley Rink\, visit the Skate Canada website \nSTART ORDERS – links are posted. Click on Segments>Entries to view start orders \nPRACTICE ICE \nVideos are available for purchase from the Camera Guy. Here is the online purchase form:  https://forms.gle/MSBxmk32Xbp91mFLA  \n 
URL:https://skateontario.org/event/sectional-series-july/
LOCATION:Bob MacQuarrie Recreation Complex\, 1490 Youville Dr.\, Orleans\, ON\, K1C 2X8\, Canada
CATEGORIES:Competitions
END:VEVENT
END:VCALENDAR