BEGIN:VCALENDAR
VERSION:2.0
PRODID:-//Skate Ontario - ECPv5.6.0//NONSGML v1.0//EN
CALSCALE:GREGORIAN
METHOD:PUBLISH
X-WR-CALNAME:Skate Ontario
X-ORIGINAL-URL:https://skateontario.org
X-WR-CALDESC:Events for Skate Ontario
BEGIN:VTIMEZONE
TZID:America/Toronto
BEGIN:DAYLIGHT
TZOFFSETFROM:-0500
TZOFFSETTO:-0400
TZNAME:EDT
DTSTART:20230312T070000
END:DAYLIGHT
BEGIN:STANDARD
TZOFFSETFROM:-0400
TZOFFSETTO:-0500
TZNAME:EST
DTSTART:20231105T060000
END:STANDARD
END:VTIMEZONE
BEGIN:VEVENT
DTSTART;TZID=America/Toronto:20230718T080000
DTEND;TZID=America/Toronto:20230718T170000
DTSTAMP:20260424T215014
CREATED:20230718T102616Z
LAST-MODIFIED:20230718T113011Z
UID:37695-1689667200-1689699600@skateontario.org
SUMMARY:test event
DESCRIPTION:WordPress 6.2 includes more than 292 enhancements and 394 bug fixes. This page highlights the latest features since the November 2022 release of WordPress 6.1. From quick highlights to developer resources\, there’s a lot to explore.WordPress 6.2 includes more than 292 enhancements and 394 bug fixes. This page highlights the latest features since the November 2022 release of WordPress 6.1. From quick highlights to developer resources\, there’s a lot to explore.WordPress 6.2 includes more than 292 enhancements and 394 bug fixes. This page highlights the latest features since the November 2022 release of WordPress 6.1. From quick highlights to developer resources\, there’s a lot to explore.WordPress 6.2 includes more than 292 enhancements and 394 bug fixes. This page highlights the latest features since the November 2022 release of WordPress 6.1. From quick highlights to developer resources\, there’s a lot to explore. \n\n\n\nTest1\n\n\nTest4\n\n\n\n\n\n\n\n\n\n\n\n\n\n\n\n\n\nTest4\n\n\n\n  \n\n\n\ntest\ntest\ntest\n\n\ntest\ntest\ntest
URL:https://skateontario.org/event/37695/
END:VEVENT
END:VCALENDAR