BEGIN:VCALENDAR
VERSION:2.0
PRODID:-//Skate Ontario - ECPv5.6.0//NONSGML v1.0//EN
CALSCALE:GREGORIAN
METHOD:PUBLISH
X-WR-CALNAME:Skate Ontario
X-ORIGINAL-URL:https://skateontario.org
X-WR-CALDESC:Events for Skate Ontario
BEGIN:VTIMEZONE
TZID:America/Toronto
BEGIN:DAYLIGHT
TZOFFSETFROM:-0500
TZOFFSETTO:-0400
TZNAME:EDT
DTSTART:20230312T070000
END:DAYLIGHT
BEGIN:STANDARD
TZOFFSETFROM:-0400
TZOFFSETTO:-0500
TZNAME:EST
DTSTART:20231105T060000
END:STANDARD
END:VTIMEZONE
BEGIN:VEVENT
DTSTART;TZID=America/Toronto:20230711T190000
DTEND;TZID=America/Toronto:20230711T210000
DTSTAMP:20260425T121312
CREATED:20230713T023434Z
LAST-MODIFIED:20230720T034635Z
UID:37619-1689102000-1689109200@skateontario.org
SUMMARY:2023-2024 Season Judge Kick-Off Meeting
DESCRIPTION:In preparation for the competition season\, Skate Ontario is hosting online Season Kick-off sessions for Judges and Technical Officials. Whether you will be participating at Sectional or Provincial Series events\, you are encourage to join the conversation. \nJudge Season Kick-off                 July 11\, 2023   \n\n7:00 pm – 7:20 pm       Introduction and General Information\n7:20 pm – 8:10 pm       Singles and Pairs\n8:10 pm – 9:00 pm       Ice Dance
URL:https://skateontario.org/event/skate-ontario-initial-judge-meeting/
LOCATION:Online\, Online Event
CATEGORIES:Officials Calendar
END:VEVENT
END:VCALENDAR