BEGIN:VCALENDAR
VERSION:2.0
PRODID:-//Skate Ontario - ECPv5.6.0//NONSGML v1.0//EN
CALSCALE:GREGORIAN
METHOD:PUBLISH
X-WR-CALNAME:Skate Ontario
X-ORIGINAL-URL:https://skateontario.org
X-WR-CALDESC:Events for Skate Ontario
BEGIN:VTIMEZONE
TZID:America/Toronto
BEGIN:DAYLIGHT
TZOFFSETFROM:-0500
TZOFFSETTO:-0400
TZNAME:EDT
DTSTART:20190310T070000
END:DAYLIGHT
BEGIN:STANDARD
TZOFFSETFROM:-0400
TZOFFSETTO:-0500
TZNAME:EST
DTSTART:20191103T060000
END:STANDARD
END:VTIMEZONE
BEGIN:VEVENT
DTSTART;TZID=America/Toronto:20190216T090000
DTEND;TZID=America/Toronto:20190216T180000
DTSTAMP:20260424T095133
CREATED:20180601T144450Z
LAST-MODIFIED:20230528T044202Z
UID:10668-1550307600-1550340000@skateontario.org
SUMMARY:STAR 1-4 Series: Futures Kenora 2019
DESCRIPTION:
URL:https://skateontario.org/event/star-1-4-series-kenora/
LOCATION:Kenora Recreation Centre\, 18 Mike Richards Way\, Kenora\, ON\, P9N 1L2\, Canada
CATEGORIES:Competitions
ATTACH;FMTTYPE=image/jpeg:https://skateontario.org/wp-content/uploads/2018/04/short_singles@2x_preview.jpeg
END:VEVENT
END:VCALENDAR