BEGIN:VCALENDAR
VERSION:2.0
PRODID:-//Skate Ontario - ECPv5.6.0//NONSGML v1.0//EN
CALSCALE:GREGORIAN
METHOD:PUBLISH
X-WR-CALNAME:Skate Ontario
X-ORIGINAL-URL:https://skateontario.org
X-WR-CALDESC:Events for Skate Ontario
BEGIN:VTIMEZONE
TZID:America/Toronto
BEGIN:DAYLIGHT
TZOFFSETFROM:-0500
TZOFFSETTO:-0400
TZNAME:EDT
DTSTART:20190310T070000
END:DAYLIGHT
BEGIN:STANDARD
TZOFFSETFROM:-0400
TZOFFSETTO:-0500
TZNAME:EST
DTSTART:20191103T060000
END:STANDARD
END:VTIMEZONE
BEGIN:VEVENT
DTSTART;TZID=America/Toronto:20190104T080000
DTEND;TZID=America/Toronto:20190106T170000
DTSTAMP:20260424T125325
CREATED:20180517T130058Z
LAST-MODIFIED:20230528T044156Z
UID:10362-1546588800-1546794000@skateontario.org
SUMMARY:Synchro Series - Winterfest
DESCRIPTION:Please see below information regarding Winterfest & ISU World Junior Synchronized Skating Qualifer 2019. \n\nFinal Event Schedule– as of December 30th\nDressing Room Schedule- Friday\nDressing Room Schedule- Saturday-Updated Jan.4th\nDressing Room Schedule- Sunday\nIce Layout\nPlanned Program Sheets\n\nWinterfest Live Stream\n 
URL:https://skateontario.org/event/synchro-series-winterfest/
LOCATION:Powerade Centre\, 7575 Kennedy Rd S\, Brampton\, Ontario\, L6W 4T2\, Canada
CATEGORIES:Competitions
ATTACH;FMTTYPE=image/jpeg:https://skateontario.org/wp-content/uploads/2018/05/med_synchro-9b_preview.jpeg
END:VEVENT
BEGIN:VEVENT
DTSTART;TZID=America/Toronto:20190104T080000
DTEND;TZID=America/Toronto:20190104T170000
DTSTAMP:20260424T125325
CREATED:20181112T200612Z
LAST-MODIFIED:20230528T044213Z
UID:12877-1546588800-1546621200@skateontario.org
SUMMARY:Special Olympics East 2019
DESCRIPTION:
URL:https://skateontario.org/event/special-olympics-east-2019/
LOCATION:Ajax Community Centre\, 75 Centennial Rd\, Ajax\, Ontario\, L1S 4S4\, Canada
CATEGORIES:Competitions
END:VEVENT
END:VCALENDAR