BEGIN:VCALENDAR
VERSION:2.0
PRODID:-//Skate Ontario - ECPv5.6.0//NONSGML v1.0//EN
CALSCALE:GREGORIAN
METHOD:PUBLISH
X-WR-CALNAME:Skate Ontario
X-ORIGINAL-URL:https://skateontario.org
X-WR-CALDESC:Events for Skate Ontario
BEGIN:VTIMEZONE
TZID:America/Toronto
BEGIN:DAYLIGHT
TZOFFSETFROM:-0500
TZOFFSETTO:-0400
TZNAME:EDT
DTSTART:20180311T070000
END:DAYLIGHT
BEGIN:STANDARD
TZOFFSETFROM:-0400
TZOFFSETTO:-0500
TZNAME:EST
DTSTART:20181104T060000
END:STANDARD
END:VTIMEZONE
BEGIN:VEVENT
DTSTART;TZID=America/Toronto:20180928T080000
DTEND;TZID=America/Toronto:20180930T170000
DTSTAMP:20260424T202957
CREATED:20180419T225633Z
LAST-MODIFIED:20230528T044140Z
UID:2346-1538121600-1538326800@skateontario.org
SUMMARY:Sectionals Series - Paris Autumn Skate 2018
DESCRIPTION:Practice Ice Information \nPlanned Program Sheets
URL:https://skateontario.org/event/sectionals-series-paris/
LOCATION:Brant Sports Complex\, 944 Powerline Rd.\, Paris\, ON\, N3L 0B2\, Canada
CATEGORIES:Competitions
ATTACH;FMTTYPE=image/jpeg:https://skateontario.org/wp-content/uploads/2018/05/short_amelia-1a.jpg
END:VEVENT
BEGIN:VEVENT
DTSTART;TZID=America/Toronto:20180930T090000
DTEND;TZID=America/Toronto:20180930T170000
DTSTAMP:20260424T202957
CREATED:20180905T191146Z
LAST-MODIFIED:20230528T044211Z
UID:11868-1538298000-1538326800@skateontario.org
SUMMARY:Club Enhancement Workshop - North York
DESCRIPTION:This full day workshop targeted towards club board members and coaches will cover topics such as: \n\nBoard governance\nEffective meetings\nTeam work\nCommunications\nConflict management\nPlanning and implementation of Performance Days\n\nRegistration for this location will close on Friday\, September 21\, 2018 at 11:59pm EST. \nTo register\, please click here.
URL:https://skateontario.org/event/club-enhancement-workshop-north-york/
LOCATION:Canlan Arena – North York\, 989 Murray Ross Pkwy\, North York\, Ontario\, M3J 3M4\, Canada
CATEGORIES:Community
END:VEVENT
BEGIN:VEVENT
DTSTART;TZID=America/Toronto:20180930T090000
DTEND;TZID=America/Toronto:20180930T170000
DTSTAMP:20260424T202957
CREATED:20180905T191501Z
LAST-MODIFIED:20230528T044212Z
UID:11871-1538298000-1538326800@skateontario.org
SUMMARY:Club Enhancement Workshop - Windsor
DESCRIPTION:This full day workshop targeted towards club board members and coaches will cover topics such as: \n\nBoard governance\nEffective meetings\nTeam work\nCommunications\nConflict management\nPlanning and implementation of Performance Days\n\nRegistration for this location will close on Friday\, September 21\, 2018 at 11:59pm EST. \nTo register\, please click here.
URL:https://skateontario.org/event/club-enhancement-workshop-windsor/
LOCATION:Village at St. Clair\, 1800 Talbot Rd.\, Windsor\, Ontario\, N9H 0E3\, Canada
CATEGORIES:Community
END:VEVENT
END:VCALENDAR