BEGIN:VCALENDAR
VERSION:2.0
PRODID:-//Skate Ontario - ECPv5.6.0//NONSGML v1.0//EN
CALSCALE:GREGORIAN
METHOD:PUBLISH
X-WR-CALNAME:Skate Ontario
X-ORIGINAL-URL:https://skateontario.org
X-WR-CALDESC:Events for Skate Ontario
BEGIN:VTIMEZONE
TZID:America/Toronto
BEGIN:DAYLIGHT
TZOFFSETFROM:-0500
TZOFFSETTO:-0400
TZNAME:EDT
DTSTART:20180311T070000
END:DAYLIGHT
BEGIN:STANDARD
TZOFFSETFROM:-0400
TZOFFSETTO:-0500
TZNAME:EST
DTSTART:20181104T060000
END:STANDARD
END:VTIMEZONE
BEGIN:VEVENT
DTSTART;TZID=America/Toronto:20180921T080000
DTEND;TZID=America/Toronto:20180923T173000
DTSTAMP:20260424T071548
CREATED:20180420T165614Z
LAST-MODIFIED:20230528T044149Z
UID:2453-1537516800-1537723800@skateontario.org
SUMMARY:Club Coach - CanSkate Course
DESCRIPTION:
URL:https://skateontario.org/event/club-coach-canskate-course-9-2/
LOCATION:Thunder Bay Tournament Centre\, 2050 Mountain Rd.\, Thunder Bay\, ON\, P7J 1C8\, Canada
CATEGORIES:Coaches
END:VEVENT
BEGIN:VEVENT
DTSTART;TZID=America/Toronto:20180921T080000
DTEND;TZID=America/Toronto:20180923T173000
DTSTAMP:20260424T071548
CREATED:20180420T165614Z
LAST-MODIFIED:20180420T165614Z
UID:2465-1537516800-1537723800@skateontario.org
SUMMARY:Club Coach - CanSkate Course
DESCRIPTION:
URL:https://skateontario.org/event/club-coach-canskate-course-9/
LOCATION:Thunder Bay Tournament Centre\, 2050 Mountain Rd.\, Thunder Bay\, ON\, P7J 1C8\, Canada
CATEGORIES:Coaches
END:VEVENT
BEGIN:VEVENT
DTSTART;TZID=America/Toronto:20180923T090000
DTEND;TZID=America/Toronto:20180923T170000
DTSTAMP:20260424T071548
CREATED:20180905T185556Z
LAST-MODIFIED:20230528T044211Z
UID:11859-1537693200-1537722000@skateontario.org
SUMMARY:Club Enhancement Workshop - Owen Sound
DESCRIPTION:This full day workshop targeted towards club board members and coaches will cover topics such as: \n\nBoard governance\nEffective meetings\nTeam work\nCommunications\nConflict management\nPlanning and implementation of Performance Days\n\nRegistration for this location will close on Friday\, September 14\, 2018 at 11:59pm EST. \nTo register\, please click here.
URL:https://skateontario.org/event/club-enhancement-workshop-owen-sound/
LOCATION:Bayshore Community Centre\, 1900 3rd Ave. E.\, Owen Sound\, Ontario\, N4K 3M6\, Canada
CATEGORIES:Community
END:VEVENT
END:VCALENDAR