BEGIN:VCALENDAR
VERSION:2.0
PRODID:-//Skate Ontario - ECPv5.6.0//NONSGML v1.0//EN
CALSCALE:GREGORIAN
METHOD:PUBLISH
X-WR-CALNAME:Skate Ontario
X-ORIGINAL-URL:https://skateontario.org
X-WR-CALDESC:Events for Skate Ontario
BEGIN:VTIMEZONE
TZID:America/Toronto
BEGIN:DAYLIGHT
TZOFFSETFROM:-0500
TZOFFSETTO:-0400
TZNAME:EDT
DTSTART:20180311T070000
END:DAYLIGHT
BEGIN:STANDARD
TZOFFSETFROM:-0400
TZOFFSETTO:-0500
TZNAME:EST
DTSTART:20181104T060000
END:STANDARD
END:VTIMEZONE
BEGIN:VEVENT
DTSTART;TZID=America/Toronto:20180920T080000
DTEND;TZID=America/Toronto:20180922T170000
DTSTAMP:20260424T092514
CREATED:20180731T183443Z
LAST-MODIFIED:20230528T044210Z
UID:11408-1537430400-1537635600@skateontario.org
SUMMARY:Autumn Classic International
DESCRIPTION:Event Website
URL:https://skateontario.org/event/autumn-classic-international/
LOCATION:Sixteen Mile Sports Complex\, 3070 Neyagawa Blvd.\, Oakville\, ON\, L6M 4L6\, Canada
CATEGORIES:Competitions
END:VEVENT
END:VCALENDAR