BEGIN:VCALENDAR
VERSION:2.0
PRODID:-//Skate Ontario - ECPv5.6.0//NONSGML v1.0//EN
CALSCALE:GREGORIAN
METHOD:PUBLISH
X-WR-CALNAME:Skate Ontario
X-ORIGINAL-URL:https://skateontario.org
X-WR-CALDESC:Events for Skate Ontario
BEGIN:VTIMEZONE
TZID:America/Toronto
BEGIN:DAYLIGHT
TZOFFSETFROM:-0500
TZOFFSETTO:-0400
TZNAME:EDT
DTSTART:20180311T070000
END:DAYLIGHT
BEGIN:STANDARD
TZOFFSETFROM:-0400
TZOFFSETTO:-0500
TZNAME:EST
DTSTART:20181104T060000
END:STANDARD
END:VTIMEZONE
BEGIN:VEVENT
DTSTART;TZID=America/Toronto:20180905T090000
DTEND;TZID=America/Toronto:20180905T170000
DTSTAMP:20260424T104641
CREATED:20180905T190451Z
LAST-MODIFIED:20230528T044211Z
UID:11865-1536138000-1536166800@skateontario.org
SUMMARY:Club Enhancement Workshop - London
DESCRIPTION:This full day workshop targeted towards club board members and coaches will cover topics such as: \n\nBoard governance\nEffective meetings\nTeam work\nCommunications\nConflict management\nPlanning and implementation of Performance Days\n\nRegistration for this location will close on Friday\, September 21\, 2018 at 11:59pm EST. \nTo register\, please click here.
URL:https://skateontario.org/event/club-enhancement-workshop-london/
LOCATION:Lambeth Arena & Community Centre\, 7112 Beattie St.\, London\, Ontario\, N6P 1A2\, Canada
CATEGORIES:Community
END:VEVENT
END:VCALENDAR