BEGIN:VCALENDAR
VERSION:2.0
PRODID:-//Skate Ontario - ECPv5.6.0//NONSGML v1.0//EN
CALSCALE:GREGORIAN
METHOD:PUBLISH
X-WR-CALNAME:Skate Ontario
X-ORIGINAL-URL:https://skateontario.org
X-WR-CALDESC:Events for Skate Ontario
BEGIN:VTIMEZONE
TZID:America/Toronto
BEGIN:DAYLIGHT
TZOFFSETFROM:-0500
TZOFFSETTO:-0400
TZNAME:EDT
DTSTART:20180311T070000
END:DAYLIGHT
BEGIN:STANDARD
TZOFFSETFROM:-0400
TZOFFSETTO:-0500
TZNAME:EST
DTSTART:20181104T060000
END:STANDARD
END:VTIMEZONE
BEGIN:VEVENT
DTSTART;VALUE=DATE:20180315
DTEND;VALUE=DATE:20180319
DTSTAMP:20260425T150721
CREATED:20180119T233907Z
LAST-MODIFIED:20230528T044137Z
UID:359-1521144000-1521403199@skateontario.org
SUMMARY:2018 Skate Ontario Starskate Provincial Championships
DESCRIPTION:
URL:https://skateontario.org/event/2018-skate-ontario-starskate-provincial-championships/
LOCATION:Walkerton Community Centre\, 290 Durham Street\, Walkerton\, ON\, N0G 2V0\, Canada
ATTACH;FMTTYPE=image/jpeg:https://skateontario.org/wp-content/uploads/2018/03/header-coaches@2x.jpg
END:VEVENT
END:VCALENDAR