BEGIN:VCALENDAR
VERSION:2.0
PRODID:-//Skate Ontario - ECPv5.6.0//NONSGML v1.0//EN
CALSCALE:GREGORIAN
METHOD:PUBLISH
X-WR-CALNAME:Skate Ontario
X-ORIGINAL-URL:https://skateontario.org
X-WR-CALDESC:Events for Skate Ontario
BEGIN:VTIMEZONE
TZID:America/Toronto
BEGIN:DAYLIGHT
TZOFFSETFROM:-0500
TZOFFSETTO:-0400
TZNAME:EDT
DTSTART:20180311T070000
END:DAYLIGHT
BEGIN:STANDARD
TZOFFSETFROM:-0400
TZOFFSETTO:-0500
TZNAME:EST
DTSTART:20181104T060000
END:STANDARD
END:VTIMEZONE
BEGIN:VEVENT
DTSTART;VALUE=DATE:20180306
DTEND;VALUE=DATE:20180309
DTSTAMP:20260424T205726
CREATED:20180119T233800Z
LAST-MODIFIED:20230528T044137Z
UID:357-1520362800-1520535599@skateontario.org
SUMMARY:High School West Invitational
DESCRIPTION:High School West Invitational Announcement\nHigh School West Invitational Registration\n\nPlease note: registration forms need to be mailed to the following address:\n\nAttn: Carol Moir\n100-2605 Skymark Ave\nMississauga\, ON\nL4W 4L5\n\n\n\n\nHigh School West Entry Form\nHigh School West Team Roster\n\nFor any questions please email events@skateontario.org 
URL:https://skateontario.org/event/high-school-west-invitational/
END:VEVENT
END:VCALENDAR