BEGIN:VCALENDAR
VERSION:2.0
PRODID:-//Skate Ontario - ECPv5.6.0//NONSGML v1.0//EN
CALSCALE:GREGORIAN
METHOD:PUBLISH
X-WR-CALNAME:Skate Ontario
X-ORIGINAL-URL:https://skateontario.org
X-WR-CALDESC:Events for Skate Ontario
BEGIN:VTIMEZONE
TZID:America/Toronto
BEGIN:DAYLIGHT
TZOFFSETFROM:-0500
TZOFFSETTO:-0400
TZNAME:EDT
DTSTART:20180311T070000
END:DAYLIGHT
BEGIN:STANDARD
TZOFFSETFROM:-0400
TZOFFSETTO:-0500
TZNAME:EST
DTSTART:20181104T060000
END:STANDARD
END:VTIMEZONE
BEGIN:VEVENT
DTSTART;TZID=America/Toronto:20180222T040000
DTEND;TZID=America/Toronto:20180222T120000
DTSTAMP:20260425T063028
CREATED:20180119T232652Z
LAST-MODIFIED:20230528T044133Z
UID:339-1519272000-1519300800@skateontario.org
SUMMARY:Make It A Date To Skate
DESCRIPTION:Make It A Date To Skate registration will open Wednesday\, December 13th @ 4:00pm. \n\nMake it a Date to Skate Announcement\nMake it a Date to Skate Registration\nEvent Schedule\n\nFor any questions please email events@skateontario.org 
URL:https://skateontario.org/event/make-it-a-date-to-skate/
LOCATION:Walkerton Community Centre\, 290 Durham Street\, Walkerton\, ON\, N0G 2V0\, Canada
ATTACH;FMTTYPE=image/jpeg:https://skateontario.org/wp-content/uploads/2018/03/header-community-80.jpg
END:VEVENT
BEGIN:VEVENT
DTSTART;VALUE=DATE:20180222
DTEND;VALUE=DATE:20180226
DTSTAMP:20260425T063028
CREATED:20180119T232731Z
LAST-MODIFIED:20230528T044133Z
UID:341-1519326000-1519585199@skateontario.org
SUMMARY:Elizabeth Manley Winter Classic
DESCRIPTION:Registration for Elizabeth Manley Winter Classic will open Tuesday\, December 19th @ 4:00 PM. \n\nElizabeth Manley Winter Classic Invitational Announcement\nElizabeth Manley Winter Classic Registration\nEvent Schedule\n\nFor any questions please email events@skateontario.org 
URL:https://skateontario.org/event/elizabeth-manley-winter-classic/
LOCATION:ON
CATEGORIES:Competitions
END:VEVENT
END:VCALENDAR