BEGIN:VCALENDAR
VERSION:2.0
PRODID:-//Skate Ontario - ECPv5.6.0//NONSGML v1.0//EN
CALSCALE:GREGORIAN
METHOD:PUBLISH
X-WR-CALNAME:Skate Ontario
X-ORIGINAL-URL:https://skateontario.org
X-WR-CALDESC:Events for Skate Ontario
BEGIN:VTIMEZONE
TZID:America/Toronto
BEGIN:DAYLIGHT
TZOFFSETFROM:-0500
TZOFFSETTO:-0400
TZNAME:EDT
DTSTART:20180311T070000
END:DAYLIGHT
BEGIN:STANDARD
TZOFFSETFROM:-0400
TZOFFSETTO:-0500
TZNAME:EST
DTSTART:20181104T060000
END:STANDARD
END:VTIMEZONE
BEGIN:VEVENT
DTSTART;VALUE=DATE:20180208
DTEND;VALUE=DATE:20180212
DTSTAMP:20260425T091159
CREATED:20180119T232429Z
LAST-MODIFIED:20230528T044133Z
UID:333-1518116400-1518375599@skateontario.org
SUMMARY:2018 Skate Ontario Regional Synchronized Skating Championships
DESCRIPTION:Registration for the Ontario Regional Synchronized Skating Championships 2018 will open Tuesday\, November 28 @ Noon. \n\nOntario Regional Synchronized Skating Championships 2018 Announcement\nOntario Regional Synchronized Skating Championships 2018 Registration\nEvent Schedule\nEntry Lists/Start Orders/Results\n\nRegistration will close on Thursday\, December 14th @ 10:00 PM. \nFor any questions please email events@skateontario.org 
URL:https://skateontario.org/event/2018-skate-ontario-regional-synchronized-skating-championships/
END:VEVENT
BEGIN:VEVENT
DTSTART;VALUE=DATE:20180209
DTEND;VALUE=DATE:20180211
DTSTAMP:20260425T091159
CREATED:20180119T232524Z
LAST-MODIFIED:20230528T044133Z
UID:335-1518202800-1518289199@skateontario.org
SUMMARY:Winter Whirl
DESCRIPTION:Registration will open Thursday\, November 30th @ 4:00 PM. Please proceed to the following links for event information and registration. \n\nWinter Whirl Announcement\nWinter Whirl Registration-EXTENDED! REGISTRATION WILL CLOSE AT 10:00 PM JANUARY 3RD\nEvent Schedule\nEntry Lists/Results\n\nFor any questions please email events@skateontario.org 
URL:https://skateontario.org/event/winter-whirl/
END:VEVENT
BEGIN:VEVENT
DTSTART;VALUE=DATE:20180209
DTEND;VALUE=DATE:20180211
DTSTAMP:20260425T091159
CREATED:20180119T232607Z
LAST-MODIFIED:20230528T044133Z
UID:337-1518202800-1518289199@skateontario.org
SUMMARY:Region 2 Interclub
DESCRIPTION:Registration will open Friday\, December 1st @ 4:00 PM. Please see the following links for event information and registration. \n\nRegion 2 Interclub Announcement\nRegion 2 Registration\nEvent Schedule\n\nFor any questions please email events@skateontario.org 
URL:https://skateontario.org/event/region-2-interclub/
END:VEVENT
END:VCALENDAR