BEGIN:VCALENDAR
VERSION:2.0
PRODID:-//Skate Ontario - ECPv5.6.0//NONSGML v1.0//EN
CALSCALE:GREGORIAN
METHOD:PUBLISH
X-WR-CALNAME:Skate Ontario
X-ORIGINAL-URL:https://skateontario.org
X-WR-CALDESC:Events for Skate Ontario
BEGIN:VTIMEZONE
TZID:America/Toronto
BEGIN:DAYLIGHT
TZOFFSETFROM:-0500
TZOFFSETTO:-0400
TZNAME:EDT
DTSTART:20180311T070000
END:DAYLIGHT
BEGIN:STANDARD
TZOFFSETFROM:-0400
TZOFFSETTO:-0500
TZNAME:EST
DTSTART:20181104T060000
END:STANDARD
END:VTIMEZONE
BEGIN:VEVENT
DTSTART;VALUE=DATE:20180126
DTEND;VALUE=DATE:20180129
DTSTAMP:20260424T210333
CREATED:20180105T231842Z
LAST-MODIFIED:20230528T044132Z
UID:45-1516993200-1517165999@skateontario.org
SUMMARY:Weskate
DESCRIPTION:
URL:https://skateontario.org/event/weskate/
LOCATION:Walkerton Community Centre\, 290 Durham Street\, Walkerton\, ON\, N0G 2V0\, Canada
CATEGORIES:Competitions
END:VEVENT
BEGIN:VEVENT
DTSTART;VALUE=DATE:20180126
DTEND;VALUE=DATE:20180128
DTSTAMP:20260424T210333
CREATED:20180119T231655Z
LAST-MODIFIED:20230528T044132Z
UID:317-1516993200-1517079599@skateontario.org
SUMMARY:Winter Glitters
DESCRIPTION:Winter Glitters Announcement\nWinter Glitters Registration\nWinter Glitters 18 Schedule – Reposted January 11th\nEntry Lists/Results\n\nFor any questions please email events@skateontario.org
URL:https://skateontario.org/event/winter-glitters/
LOCATION:ON
END:VEVENT
BEGIN:VEVENT
DTSTART;VALUE=DATE:20180126
DTEND;VALUE=DATE:20180129
DTSTAMP:20260424T210333
CREATED:20180119T231745Z
LAST-MODIFIED:20230528T044132Z
UID:319-1516993200-1517165999@skateontario.org
SUMMARY:Synchro Capers
DESCRIPTION:Registration for Synchro Capers will open on Wednesday\, November 15th @ 2:00 PM. \n\nSynchro Capers Announcement\nSynchro Capers Registration\nEvent Schedule\nDressing Room Schedule\nEntry Lists/Start Orders/Results\n\nRegistration will close on Wednesday\, December 13th at 10:00 PM. \nFor any questions please email events@skateontario.org
URL:https://skateontario.org/event/synchro-capers/
LOCATION:ON
END:VEVENT
BEGIN:VEVENT
DTSTART;VALUE=DATE:20180126
DTEND;VALUE=DATE:20180129
DTSTAMP:20260424T210333
CREATED:20180119T231832Z
LAST-MODIFIED:20230528T044132Z
UID:321-1516993200-1517165999@skateontario.org
SUMMARY:Abela/McPherdran Memorial Invitational
DESCRIPTION:Registration for Abela/McPhedran Memorial Invitational will open Tuesday\, November 21st @ 10:00 PM. \n\nAbela/McPhedran Memorial Invitational Announcement\nAbela/McPhedran Memorial Invitational Registration\nEvent Schedule\nEntry Lists/Results\n\nFor any questions please email events@skateontario.org 
URL:https://skateontario.org/event/abela-mcpherdran-memorial-invitational/
LOCATION:ON
END:VEVENT
END:VCALENDAR